Workbook
Name SlicerCache_Table_1_Col_2: #N/A

Sheet 시트1
A1: 응답ID | B1: 소속그룹 | C1: 내용만족 | D1: 강사만족 | E1: 현업활용 | F1: 개선의견
A2: R01 | B2: A팀 | C2: 5 | D2: 5 | E2: 4 | F2: 역할 연습 시간을 늘려주세요
A3: R02 | B3: A팀 | C3: 4 | D3: 5 | E3: 4 | F3: 사례가 실무와 비슷했습니다
A4: R03 | B4: A팀 | C4: 4 | D4: 4 | E4: 3 | F4: 후속 자료가 필요합니다
A5: R04 | B5: A팀 | C5: 5 | D5: 5 | E5: 5 | F5: 바로 적용할 수 있겠습니다
A6: R05 | B6: B팀 | C6: 3 | D6: 4 | E6: 3 | F6: 역할 연습 시간을 늘려주세요
A7: R06 | B7: B팀 | C7: 4 | D7: 4 | E7: 4 | F7: 준비물이 잘 갖춰져 있었습니다
A8: R07 | B8: B팀 | C8: 4 | D8: 5 | E8: 4 | F8: 후속 자료가 필요합니다
A9: R08 | B9: B팀 | C9: 5 | D9: 5 | E9: 4 | F9: 설명이 쉬웠습니다
A10: R09 | B10: C팀 | C10: 3 | D10: 4 | E10: 3 | F10: 사례를 더 다양하게 주세요
A11: R10 | B11: C팀 | C11: 4 | D11: 4 | E11: 4 | F11: 역할 연습 시간을 늘려주세요
A12: R11 | B12: C팀 | C12: 5 | D12: 5 | E12: 5 | F12: 피드백 문장을 바로 써봤습니다
A13: R12 | B13: C팀 | C13: 4 | D13: 4 | E13: 4 | F13: 후속 자료가 필요합니다

Sheet 분석
A1: 피드백 워크숍 만족도 분석
A2: ※ 가상 자료: 촬영용 예시 설문(12명)이며 실제 응답이 아닙니다. 모든 수치는 '시트1' 원본 참조 수식이며, 빈칸은 평균에서 제외(0점 처리 안 함)됩니다.
A4: 1. 응답 현황
A5: 총 응답 수(명) | B5: =COUNTA('시트1'!A2:A1000) -> 12
A7: 2. 항목별 평균 (5점 척도)
A8: 항목 | B8: 평균 | C8: 유효 응답 수 | D8: 최저 | E8: 최고
A9: ='시트1'!C1 -> 내용만족 | B9: =AVERAGE('시트1'!C2:C1000) -> 4.1666667 | C9: =COUNT('시트1'!C2:C1000) -> 12 | D9: =MIN('시트1'!C2:C1000) -> 3 | E9: =MAX('시트1'!C2:C1000) -> 5
A10: ='시트1'!D1 -> 강사만족 | B10: =AVERAGE('시트1'!D2:D1000) -> 4.5 | C10: =COUNT('시트1'!D2:D1000) -> 12 | D10: =MIN('시트1'!D2:D1000) -> 4 | E10: =MAX('시트1'!D2:D1000) -> 5
A11: ='시트1'!E1 -> 현업활용 | B11: =AVERAGE('시트1'!E2:E1000) -> 3.9166667 | C11: =COUNT('시트1'!E2:E1000) -> 12 | D11: =MIN('시트1'!E2:E1000) -> 3 | E11: =MAX('시트1'!E2:E1000) -> 5
A13: 3. 개선의견별 빈도 (빈도 내림차순)
A14: 개선의견 | B14: 빈도(건) | C14: 비율
A15: =IFERROR(__xludf.DUMMYFUNCTION("QUERY('시트1'!F2:F1000,""select F, count(F) where F is not null group by F order by count(F) desc, F label count(F) ''"",0)"),"역할 연습 시간을 늘려주세요") -> 역할 연습 시간을 늘려주세요 | B15: =IFERROR(__xludf.DUMMYFUNCTION("""COMPUTED_VALUE"""),3.0) -> 3 | C15: {=IF(LEN(B15:B23),B15:B23/COUNTA('시트1'!F2:F1000),)} -> 0.25
A16: =IFERROR(__xludf.DUMMYFUNCTION("""COMPUTED_VALUE"""),"후속 자료가 필요합니다") -> 후속 자료가 필요합니다 | B16: =IFERROR(__xludf.DUMMYFUNCTION("""COMPUTED_VALUE"""),3.0) -> 3 | C16: 0.25
A17: =IFERROR(__xludf.DUMMYFUNCTION("""COMPUTED_VALUE"""),"바로 적용할 수 있겠습니다") -> 바로 적용할 수 있겠습니다 | B17: =IFERROR(__xludf.DUMMYFUNCTION("""COMPUTED_VALUE"""),1.0) -> 1 | C17: 0.083333333
A18: =IFERROR(__xludf.DUMMYFUNCTION("""COMPUTED_VALUE"""),"사례가 실무와 비슷했습니다") -> 사례가 실무와 비슷했습니다 | B18: =IFERROR(__xludf.DUMMYFUNCTION("""COMPUTED_VALUE"""),1.0) -> 1 | C18: 0.083333333
A19: =IFERROR(__xludf.DUMMYFUNCTION("""COMPUTED_VALUE"""),"사례를 더 다양하게 주세요") -> 사례를 더 다양하게 주세요 | B19: =IFERROR(__xludf.DUMMYFUNCTION("""COMPUTED_VALUE"""),1.0) -> 1 | C19: 0.083333333
A20: =IFERROR(__xludf.DUMMYFUNCTION("""COMPUTED_VALUE"""),"설명이 쉬웠습니다") -> 설명이 쉬웠습니다 | B20: =IFERROR(__xludf.DUMMYFUNCTION("""COMPUTED_VALUE"""),1.0) -> 1 | C20: 0.083333333
A21: =IFERROR(__xludf.DUMMYFUNCTION("""COMPUTED_VALUE"""),"준비물이 잘 갖춰져 있었습니다") -> 준비물이 잘 갖춰져 있었습니다 | B21: =IFERROR(__xludf.DUMMYFUNCTION("""COMPUTED_VALUE"""),1.0) -> 1 | C21: 0.083333333
A22: =IFERROR(__xludf.DUMMYFUNCTION("""COMPUTED_VALUE"""),"피드백 문장을 바로 써봤습니다") -> 피드백 문장을 바로 써봤습니다 | B22: =IFERROR(__xludf.DUMMYFUNCTION("""COMPUTED_VALUE"""),1.0) -> 1 | C22: 0.083333333
A25: 4. 관찰 결과 (데이터에서 확인된 사실)
A26: ="• 총 "&B5&"명 응답 / 유효 응답 수: "&A9&" "&C9&"건, "&A10&" "&C10&"건, "&A11&" "&C11&"건" -> • 총 12명 응답 / 유효 응답 수: 내용만족 12건, 강사만족 12건, 현업활용 12건
A27: {="• 평균 최고: "&INDEX(A9:A11,MATCH(MAX(B9:B11),B9:B11,0))&" "&TEXT(MAX(B9:B11),"0.00")&"점 / 최저: "&INDEX(A9:A11,MATCH(MIN(B9:B11),B9:B11,0))&" "&TEXT(MIN(B9:B11),"0.00")&"점"} -> • 평균 최고: 강사만족 4.50점 / 최저: 현업활용 3.92점
A28: ="• 최다 의견: '"&A15&"', '"&A16&"' 각 "&B15&"건" -> • 최다 의견: '역할 연습 시간을 늘려주세요', '후속 자료가 필요합니다' 각 3건
A29: • 긍정 의견(실무 유사·쉬운 설명·준비물·즉시 적용)과 요청 의견(연습 시간·후속 자료·사례 다양화)이 혼재
A31: 5. HRD 개선 제안 (해석·제안, 검증 필요)
A32: ① 현업활용 점수 보완: 교육 후 1~2주 내 적용 과제·체크리스트 등 후속 자료 제공
A33: ② 역할 연습 시간 확대: 이론 비중을 줄이고 실습·피드백 라운드 추가
A34: ③ 사례 다양화: 팀/직무별 사례를 사전 수집해 반영
A35: ④ 강점 유지: 강사 진행 방식과 실무형 사례 구성은 유지
A36: ※ 12명 가상 표본으로 일반화에 한계가 있으며, 실제 적용 전 실데이터 검증이 필요합니다.

Sheet 과정마스터
A1: 과정코드 | B1: 과정명 | C1: 1인예산(원)
A2: C01 | B2: 피드백 | C2: 150000
A3: C02 | B3: 코칭 | C3: 200000
A4: C03 | B4: 갈등관리 | C4: 250000
A6: ※ 촬영용 가상 데이터입니다.

Sheet 교육운영
A1: 응답ID | B1: 소속 | C1: 과정코드 | D1: 과정명 | E1: 상태 | F1: 1인예산(원) | G1: 집행액(원) | H1: 현업활용 | J1: ※ 촬영용 가상 데이터입니다. 파란색=입력값(드롭다운), 초록색=시트1 참조, 검정=수식
A2: ='시트1'!A2 -> R01 | B2: ='시트1'!B2 -> A팀 | C2: C01 | D2: {=IFERROR(_xlfn.XLOOKUP($C2,'과정마스터'!$A$2:$A1000,'과정마스터'!$B$2:$B1000),"")} -> 피드백 | E2: 완료 | F2: {=IFERROR(_xlfn.XLOOKUP($C2,'과정마스터'!$A$2:$A1000,'과정마스터'!$C$2:$C1000),"")} -> 150000 | G2: =IF($E2="완료",$F2,0) -> 150000 | H2: {=IFERROR(LET(v,_xlfn.XLOOKUP($A2,'시트1'!$A$2:$A1000,'시트1'!$E$2:$E1000),IF(v="","",v)),"")} -> 4
A3: ='시트1'!A3 -> R02 | B3: ='시트1'!B3 -> A팀 | C3: C01 | D3: {=IFERROR(_xlfn.XLOOKUP($C3,'과정마스터'!$A$2:$A1000,'과정마스터'!$B$2:$B1000),"")} -> 피드백 | E3: 완료 | F3: {=IFERROR(_xlfn.XLOOKUP($C3,'과정마스터'!$A$2:$A1000,'과정마스터'!$C$2:$C1000),"")} -> 150000 | G3: =IF($E3="완료",$F3,0) -> 150000 | H3: {=IFERROR(LET(v,_xlfn.XLOOKUP($A3,'시트1'!$A$2:$A1000,'시트1'!$E$2:$E1000),IF(v="","",v)),"")} -> 4
A4: ='시트1'!A4 -> R03 | B4: ='시트1'!B4 -> A팀 | C4: C01 | D4: {=IFERROR(_xlfn.XLOOKUP($C4,'과정마스터'!$A$2:$A1000,'과정마스터'!$B$2:$B1000),"")} -> 피드백 | E4: 완료 | F4: {=IFERROR(_xlfn.XLOOKUP($C4,'과정마스터'!$A$2:$A1000,'과정마스터'!$C$2:$C1000),"")} -> 150000 | G4: =IF($E4="완료",$F4,0) -> 150000 | H4: {=IFERROR(LET(v,_xlfn.XLOOKUP($A4,'시트1'!$A$2:$A1000,'시트1'!$E$2:$E1000),IF(v="","",v)),"")} -> 3
A5: ='시트1'!A5 -> R04 | B5: ='시트1'!B5 -> A팀 | C5: C01 | D5: {=IFERROR(_xlfn.XLOOKUP($C5,'과정마스터'!$A$2:$A1000,'과정마스터'!$B$2:$B1000),"")} -> 피드백 | E5: 완료 | F5: {=IFERROR(_xlfn.XLOOKUP($C5,'과정마스터'!$A$2:$A1000,'과정마스터'!$C$2:$C1000),"")} -> 150000 | G5: =IF($E5="완료",$F5,0) -> 150000 | H5: {=IFERROR(LET(v,_xlfn.XLOOKUP($A5,'시트1'!$A$2:$A1000,'시트1'!$E$2:$E1000),IF(v="","",v)),"")} -> 5
A6: ='시트1'!A6 -> R05 | B6: ='시트1'!B6 -> B팀 | C6: C02 | D6: {=IFERROR(_xlfn.XLOOKUP($C6,'과정마스터'!$A$2:$A1000,'과정마스터'!$B$2:$B1000),"")} -> 코칭 | E6: 완료 | F6: {=IFERROR(_xlfn.XLOOKUP($C6,'과정마스터'!$A$2:$A1000,'과정마스터'!$C$2:$C1000),"")} -> 200000 | G6: =IF($E6="완료",$F6,0) -> 200000 | H6: {=IFERROR(LET(v,_xlfn.XLOOKUP($A6,'시트1'!$A$2:$A1000,'시트1'!$E$2:$E1000),IF(v="","",v)),"")} -> 3
A7: ='시트1'!A7 -> R06 | B7: ='시트1'!B7 -> B팀 | C7: C02 | D7: {=IFERROR(_xlfn.XLOOKUP($C7,'과정마스터'!$A$2:$A1000,'과정마스터'!$B$2:$B1000),"")} -> 코칭 | E7: 완료 | F7: {=IFERROR(_xlfn.XLOOKUP($C7,'과정마스터'!$A$2:$A1000,'과정마스터'!$C$2:$C1000),"")} -> 200000 | G7: =IF($E7="완료",$F7,0) -> 200000 | H7: {=IFERROR(LET(v,_xlfn.XLOOKUP($A7,'시트1'!$A$2:$A1000,'시트1'!$E$2:$E1000),IF(v="","",v)),"")} -> 4
A8: ='시트1'!A8 -> R07 | B8: ='시트1'!B8 -> B팀 | C8: C02 | D8: {=IFERROR(_xlfn.XLOOKUP($C8,'과정마스터'!$A$2:$A1000,'과정마스터'!$B$2:$B1000),"")} -> 코칭 | E8: 완료 | F8: {=IFERROR(_xlfn.XLOOKUP($C8,'과정마스터'!$A$2:$A1000,'과정마스터'!$C$2:$C1000),"")} -> 200000 | G8: =IF($E8="완료",$F8,0) -> 200000 | H8: {=IFERROR(LET(v,_xlfn.XLOOKUP($A8,'시트1'!$A$2:$A1000,'시트1'!$E$2:$E1000),IF(v="","",v)),"")} -> 4
A9: ='시트1'!A9 -> R08 | B9: ='시트1'!B9 -> B팀 | C9: C02 | D9: {=IFERROR(_xlfn.XLOOKUP($C9,'과정마스터'!$A$2:$A1000,'과정마스터'!$B$2:$B1000),"")} -> 코칭 | E9: 완료 | F9: {=IFERROR(_xlfn.XLOOKUP($C9,'과정마스터'!$A$2:$A1000,'과정마스터'!$C$2:$C1000),"")} -> 200000 | G9: =IF($E9="완료",$F9,0) -> 200000 | H9: {=IFERROR(LET(v,_xlfn.XLOOKUP($A9,'시트1'!$A$2:$A1000,'시트1'!$E$2:$E1000),IF(v="","",v)),"")} -> 4
A10: ='시트1'!A10 -> R09 | B10: ='시트1'!B10 -> C팀 | C10: C03 | D10: {=IFERROR(_xlfn.XLOOKUP($C10,'과정마스터'!$A$2:$A1000,'과정마스터'!$B$2:$B1000),"")} -> 갈등관리 | E10: 완료 | F10: {=IFERROR(_xlfn.XLOOKUP($C10,'과정마스터'!$A$2:$A1000,'과정마스터'!$C$2:$C1000),"")} -> 250000 | G10: =IF($E10="완료",$F10,0) -> 250000 | H10: {=IFERROR(LET(v,_xlfn.XLOOKUP($A10,'시트1'!$A$2:$A1000,'시트1'!$E$2:$E1000),IF(v="","",v)),"")} -> 3
A11: ='시트1'!A11 -> R10 | B11: ='시트1'!B11 -> C팀 | C11: C03 | D11: {=IFERROR(_xlfn.XLOOKUP($C11,'과정마스터'!$A$2:$A1000,'과정마스터'!$B$2:$B1000),"")} -> 갈등관리 | E11: 예정 | F11: {=IFERROR(_xlfn.XLOOKUP($C11,'과정마스터'!$A$2:$A1000,'과정마스터'!$C$2:$C1000),"")} -> 250000 | G11: =IF($E11="완료",$F11,0) -> 0 | H11: {=IFERROR(LET(v,_xlfn.XLOOKUP($A11,'시트1'!$A$2:$A1000,'시트1'!$E$2:$E1000),IF(v="","",v)),"")} -> 4
A12: ='시트1'!A12 -> R11 | B12: ='시트1'!B12 -> C팀 | C12: C03 | D12: {=IFERROR(_xlfn.XLOOKUP($C12,'과정마스터'!$A$2:$A1000,'과정마스터'!$B$2:$B1000),"")} -> 갈등관리 | E12: 예정 | F12: {=IFERROR(_xlfn.XLOOKUP($C12,'과정마스터'!$A$2:$A1000,'과정마스터'!$C$2:$C1000),"")} -> 250000 | G12: =IF($E12="완료",$F12,0) -> 0 | H12: {=IFERROR(LET(v,_xlfn.XLOOKUP($A12,'시트1'!$A$2:$A1000,'시트1'!$E$2:$E1000),IF(v="","",v)),"")} -> 5
A13: ='시트1'!A13 -> R12 | B13: ='시트1'!B13 -> C팀 | C13: C03 | D13: {=IFERROR(_xlfn.XLOOKUP($C13,'과정마스터'!$A$2:$A1000,'과정마스터'!$B$2:$B1000),"")} -> 갈등관리 | E13: 예정 | F13: {=IFERROR(_xlfn.XLOOKUP($C13,'과정마스터'!$A$2:$A1000,'과정마스터'!$C$2:$C1000),"")} -> 250000 | G13: =IF($E13="완료",$F13,0) -> 0 | H13: {=IFERROR(LET(v,_xlfn.XLOOKUP($A13,'시트1'!$A$2:$A1000,'시트1'!$E$2:$E1000),IF(v="","",v)),"")} -> 4

Sheet 고급분석
A1: HRD 고급분석 (교육운영 기준)
A2: ※ 촬영용 가상 데이터입니다. 모든 수치는 '교육운영' 참조 수식입니다.
A4: 완료 상태값 | B4: 완료
A5: 예정 상태값 | B5: 예정
A7: 1. 그룹별 집계 (SUMIFS / COUNTIFS)
A8: 그룹 | B8: 인원 | C8: 계획예산(원) | D8: 집행액(원) | E8: 완료인원 | F8: 완료율
A9: =IFERROR(__xludf.DUMMYFUNCTION("SORT(UNIQUE(FILTER('교육운영'!B2:B1000,'교육운영'!B2:B1000<>"""")))"),"A팀") -> A팀 | B9: =COUNTIFS('교육운영'!$B$2:$B1000,$A9) -> 4 | C9: =SUMIFS('교육운영'!$F$2:$F1000,'교육운영'!$B$2:$B1000,$A9) -> 600000 | D9: =SUMIFS('교육운영'!$G$2:$G1000,'교육운영'!$B$2:$B1000,$A9) -> 600000 | E9: =COUNTIFS('교육운영'!$B$2:$B1000,$A9,'교육운영'!$E$2:$E1000,$B$4) -> 4 | F9: =IFERROR(E9/B9,0) -> 1
A10: =IFERROR(__xludf.DUMMYFUNCTION("""COMPUTED_VALUE"""),"B팀") -> B팀 | B10: =COUNTIFS('교육운영'!$B$2:$B1000,$A10) -> 4 | C10: =SUMIFS('교육운영'!$F$2:$F1000,'교육운영'!$B$2:$B1000,$A10) -> 800000 | D10: =SUMIFS('교육운영'!$G$2:$G1000,'교육운영'!$B$2:$B1000,$A10) -> 800000 | E10: =COUNTIFS('교육운영'!$B$2:$B1000,$A10,'교육운영'!$E$2:$E1000,$B$4) -> 4 | F10: =IFERROR(E10/B10,0) -> 1
A11: =IFERROR(__xludf.DUMMYFUNCTION("""COMPUTED_VALUE"""),"C팀") -> C팀 | B11: =COUNTIFS('교육운영'!$B$2:$B1000,$A11) -> 4 | C11: =SUMIFS('교육운영'!$F$2:$F1000,'교육운영'!$B$2:$B1000,$A11) -> 1000000 | D11: =SUMIFS('교육운영'!$G$2:$G1000,'교육운영'!$B$2:$B1000,$A11) -> 250000 | E11: =COUNTIFS('교육운영'!$B$2:$B1000,$A11,'교육운영'!$E$2:$E1000,$B$4) -> 1 | F11: =IFERROR(E11/B11,0) -> 0.25
A12: 합계 | B12: =SUM(B9:B11) -> 12 | C12: =SUM(C9:C11) -> 2400000 | D12: =SUM(D9:D11) -> 1650000 | E12: =SUM(E9:E11) -> 9 | F12: =IFERROR(E12/B12,0) -> 0.75
A14: 2. 예정자 명단 (FILTER)
A15: {='교육운영'!A1:E1} -> 응답ID | B15: 소속 | C15: 과정코드 | D15: 과정명 | E15: 상태
A16: =IFERROR(__xludf.DUMMYFUNCTION("IFERROR(FILTER('교육운영'!A2:E1000,'교육운영'!E2:E1000=$B$5),""예정자 없음"")"),"R10") -> R10 | B16: =IFERROR(__xludf.DUMMYFUNCTION("""COMPUTED_VALUE"""),"C팀") -> C팀 | C16: =IFERROR(__xludf.DUMMYFUNCTION("""COMPUTED_VALUE"""),"C03") -> C03 | D16: =IFERROR(__xludf.DUMMYFUNCTION("""COMPUTED_VALUE"""),"갈등관리") -> 갈등관리 | E16: =IFERROR(__xludf.DUMMYFUNCTION("""COMPUTED_VALUE"""),"예정") -> 예정
A17: =IFERROR(__xludf.DUMMYFUNCTION("""COMPUTED_VALUE"""),"R11") -> R11 | B17: =IFERROR(__xludf.DUMMYFUNCTION("""COMPUTED_VALUE"""),"C팀") -> C팀 | C17: =IFERROR(__xludf.DUMMYFUNCTION("""COMPUTED_VALUE"""),"C03") -> C03 | D17: =IFERROR(__xludf.DUMMYFUNCTION("""COMPUTED_VALUE"""),"갈등관리") -> 갈등관리 | E17: =IFERROR(__xludf.DUMMYFUNCTION("""COMPUTED_VALUE"""),"예정") -> 예정
A18: =IFERROR(__xludf.DUMMYFUNCTION("""COMPUTED_VALUE"""),"R12") -> R12 | B18: =IFERROR(__xludf.DUMMYFUNCTION("""COMPUTED_VALUE"""),"C팀") -> C팀 | C18: =IFERROR(__xludf.DUMMYFUNCTION("""COMPUTED_VALUE"""),"C03") -> C03 | D18: =IFERROR(__xludf.DUMMYFUNCTION("""COMPUTED_VALUE"""),"갈등관리") -> 갈등관리 | E18: =IFERROR(__xludf.DUMMYFUNCTION("""COMPUTED_VALUE"""),"예정") -> 예정
A21: 3. 과정별 집계 (QUERY)
A22: =IFERROR(__xludf.DUMMYFUNCTION("QUERY('교육운영'!A1:H1000,""select C, D, count(A), sum(F), sum(G), avg(H) where C is not null group by C, D order by C label C '과정코드', D '과정명', count(A) '인원', sum(F) '계획예산(원)', sum(G) '집행액(원)', avg(H) '현업활용 평균' format sum(F) '#,##0', sum(G) '#,##0', avg(H) '0"&".00'"",1)"),"과정코드") -> 과정코드 | B22: =IFERROR(__xludf.DUMMYFUNCTION("""COMPUTED_VALUE"""),"과정명") -> 과정명 | C22: =IFERROR(__xludf.DUMMYFUNCTION("""COMPUTED_VALUE"""),"인원") -> 인원 | D22: =IFERROR(__xludf.DUMMYFUNCTION("""COMPUTED_VALUE"""),"계획예산(원)") -> 계획예산(원) | E22: =IFERROR(__xludf.DUMMYFUNCTION("""COMPUTED_VALUE"""),"집행액(원)") -> 집행액(원) | F22: =IFERROR(__xludf.DUMMYFUNCTION("""COMPUTED_VALUE"""),"현업활용 평균") -> 현업활용 평균
A23: =IFERROR(__xludf.DUMMYFUNCTION("""COMPUTED_VALUE"""),"C01") -> C01 | B23: =IFERROR(__xludf.DUMMYFUNCTION("""COMPUTED_VALUE"""),"피드백") -> 피드백 | C23: =IFERROR(__xludf.DUMMYFUNCTION("""COMPUTED_VALUE"""),4.0) -> 4 | D23: =IFERROR(__xludf.DUMMYFUNCTION("""COMPUTED_VALUE"""),600000.0) -> 600000 | E23: =IFERROR(__xludf.DUMMYFUNCTION("""COMPUTED_VALUE"""),600000.0) -> 600000 | F23: =IFERROR(__xludf.DUMMYFUNCTION("""COMPUTED_VALUE"""),4.0) -> 4
A24: =IFERROR(__xludf.DUMMYFUNCTION("""COMPUTED_VALUE"""),"C02") -> C02 | B24: =IFERROR(__xludf.DUMMYFUNCTION("""COMPUTED_VALUE"""),"코칭") -> 코칭 | C24: =IFERROR(__xludf.DUMMYFUNCTION("""COMPUTED_VALUE"""),4.0) -> 4 | D24: =IFERROR(__xludf.DUMMYFUNCTION("""COMPUTED_VALUE"""),800000.0) -> 800000 | E24: =IFERROR(__xludf.DUMMYFUNCTION("""COMPUTED_VALUE"""),800000.0) -> 800000 | F24: =IFERROR(__xludf.DUMMYFUNCTION("""COMPUTED_VALUE"""),3.75) -> 3.75
A25: =IFERROR(__xludf.DUMMYFUNCTION("""COMPUTED_VALUE"""),"C03") -> C03 | B25: =IFERROR(__xludf.DUMMYFUNCTION("""COMPUTED_VALUE"""),"갈등관리") -> 갈등관리 | C25: =IFERROR(__xludf.DUMMYFUNCTION("""COMPUTED_VALUE"""),4.0) -> 4 | D25: =IFERROR(__xludf.DUMMYFUNCTION("""COMPUTED_VALUE"""),1000000.0) -> 1000000 | E25: =IFERROR(__xludf.DUMMYFUNCTION("""COMPUTED_VALUE"""),250000.0) -> 250000 | F25: =IFERROR(__xludf.DUMMYFUNCTION("""COMPUTED_VALUE"""),4.0) -> 4
A28: 4. 검증 (기대값 vs 실제값)
A29: 항목 | B29: 기대값 | C29: 실제값 | D29: 결과
A30: 인원(명) | B30: 12 | C30: =COUNTA('교육운영'!A2:A1000) -> 12 | D30: =IF(C30=B30,"✅ 일치","❌ 불일치") -> ✅ 일치
A31: 총 계획예산(원) | B31: 2400000 | C31: =SUM('교육운영'!F2:F1000) -> 2400000 | D31: =IF(C31=B31,"✅ 일치","❌ 불일치") -> ✅ 일치
A32: 총 집행액(원) | B32: 1650000 | C32: =SUM('교육운영'!G2:G1000) -> 1650000 | D32: =IF(C32=B32,"✅ 일치","❌ 불일치") -> ✅ 일치
A33: 완료인원(명) | B33: 9 | C33: =COUNTIF('교육운영'!E2:E1000,$B$4) -> 9 | D33: =IF(C33=B33,"✅ 일치","❌ 불일치") -> ✅ 일치
A34: 완료율 | B34: 0.75 | C34: =IFERROR(C33/C30,0) -> 0.75 | D34: =IF(C34=B34,"✅ 일치","❌ 불일치") -> ✅ 일치
A35: 그룹합계 = 원장합계 | B35: TRUE | C35: =AND(B12=C30,C12=C31,D12=C32,E12=C33) -> TRUE | D35: =IF(C35=B35,"✅ 일치","❌ 불일치") -> ✅ 일치
A36: 오류셀 수(교육운영·마스터·분석표) | B36: 0 | C36: =SUMPRODUCT(ISERROR('교육운영'!A1:H13)*1)+SUMPRODUCT(ISERROR('과정마스터'!A1:C4)*1)+SUMPRODUCT(ISERROR(A8:F26)*1) -> 0 | D36: =IF(C36=B36,"✅ 일치","❌ 불일치") -> ✅ 일치

Sheet 피벗
A1: 피벗: 소속(행) × 상태(열) 응답ID 개수 — 촬영용 가상 데이터, 원본 교육운영!A1:H13

Sheet 시나리오
A1: 교육예산 시나리오 (민감도)
A2: ※ 촬영용 가상 데이터입니다. 기준 예산은 교육운영 원본 참조입니다.
A4: 단가증가율 (입력) | B4: 0
A5: 인원증가율 (입력) | B5: 0
A7: 기준 총예산(원) | B7: =SUM('교육운영'!F2:F1000) -> 2400000
A8: 시나리오 총예산(원) | B8: =B7*(1+B4)*(1+B5) -> 2400000
A9: 기준 대비 증감(원) | B9: =B8-B7 -> 0
A11: 대안표
A12: 대안 | B12: 단가증가율 | C12: 인원증가율 | D12: 총예산(원) | E12: 기준대비 증감(원)
A13: 기본 | B13: 0 | C13: 0 | D13: =$B$7*(1+B13)*(1+C13) -> 2400000 | E13: =D13-$B$7 -> 0
A14: 단가 10%만 | B14: 0.1 | C14: 0 | D14: =$B$7*(1+B14)*(1+C14) -> 2640000 | E14: =D14-$B$7 -> 240000
A15: 인원 20%만 | B15: 0 | C15: 0.2 | D15: =$B$7*(1+B15)*(1+C15) -> 2880000 | E15: =D15-$B$7 -> 480000
A17: ="※ 인원증가율은 비용 민감도 가정입니다. 예: 20% 적용 시 "&COUNTA('교육운영'!A2:A1000)&"명×1.2="&TEXT(COUNTA('교육운영'!A2:A1000)*(1+C15),"0.0")&"명으로 정수 모집인원이 아니며, 과정별 배정도 가정하지 않고 총액에 비례 적용했습니다." -> ※ 인원증가율은 비용 민감도 가정입니다. 예: 20% 적용 시 12명×1.2=14.4명으로 정수 모집인원이 아니며, 과정별 배정도 가정하지 않고 총액에 비례 적용했습니다.

Sheet 대시보드
A1: HRD 교육운영 대시보드
A2: ※ 촬영용 가상 데이터. 모든 수치는 교육운영·과정마스터 원본 참조 수식입니다.
A4: 소속 선택(드롭다운) | B4: 전체 | C4: =IF(B4="전체","*",B4) -> * | R4: 선택 목록
R5: 전체
A6: 계획예산(원) | B6: 집행액(원) | C6: 잔액(원) | D6: 완료율 | E6: 완료/인원(명) | R6: =IFERROR(__xludf.DUMMYFUNCTION("SORT(UNIQUE(FILTER('교육운영'!B2:B1000,'교육운영'!B2:B1000<>"""")))"),"A팀") -> A팀
A7: =SUMIFS('교육운영'!F2:F1000,'교육운영'!B2:B1000,$C$4) -> 2400000 | B7: =SUMIFS('교육운영'!G2:G1000,'교육운영'!B2:B1000,$C$4) -> 1650000 | C7: =A7-B7 -> 750000 | D7: =IFERROR(COUNTIFS('교육운영'!B2:B1000,$C$4,'교육운영'!E2:E1000,'고급분석'!$B$4)/COUNTIFS('교육운영'!B2:B1000,$C$4),0) -> 0.75 | E7: =COUNTIFS('교육운영'!B2:B1000,$C$4,'교육운영'!E2:E1000,'고급분석'!$B$4)&" / "&COUNTIFS('교육운영'!B2:B1000,$C$4) -> 9 / 12 | R7: =IFERROR(__xludf.DUMMYFUNCTION("""COMPUTED_VALUE"""),"B팀") -> B팀
R8: =IFERROR(__xludf.DUMMYFUNCTION("""COMPUTED_VALUE"""),"C팀") -> C팀
A10: 과정별 예산
A11: 과정명 | B11: 계획예산(원) | C11: 집행액(원) | D11: 과정코드
A12: ='과정마스터'!B2 -> 피드백 | B12: =SUMIFS('교육운영'!$F$2:$F1000,'교육운영'!$C$2:$C1000,$D12,'교육운영'!$B$2:$B1000,$C$4) -> 600000 | C12: =SUMIFS('교육운영'!$G$2:$G1000,'교육운영'!$C$2:$C1000,$D12,'교육운영'!$B$2:$B1000,$C$4) -> 600000 | D12: ='과정마스터'!A2 -> C01
A13: ='과정마스터'!B3 -> 코칭 | B13: =SUMIFS('교육운영'!$F$2:$F1000,'교육운영'!$C$2:$C1000,$D13,'교육운영'!$B$2:$B1000,$C$4) -> 800000 | C13: =SUMIFS('교육운영'!$G$2:$G1000,'교육운영'!$C$2:$C1000,$D13,'교육운영'!$B$2:$B1000,$C$4) -> 800000 | D13: ='과정마스터'!A3 -> C02
A14: ='과정마스터'!B4 -> 갈등관리 | B14: =SUMIFS('교육운영'!$F$2:$F1000,'교육운영'!$C$2:$C1000,$D14,'교육운영'!$B$2:$B1000,$C$4) -> 1000000 | C14: =SUMIFS('교육운영'!$G$2:$G1000,'교육운영'!$C$2:$C1000,$D14,'교육운영'!$B$2:$B1000,$C$4) -> 250000 | D14: ='과정마스터'!A4 -> C03
A17: 그룹별 완료율
A18: 그룹 | B18: 완료율
A19: =IFERROR(__xludf.DUMMYFUNCTION("FILTER(R6:R8,($B$4=""전체"")+(R6:R8=$B$4))"),"A팀") -> A팀 | B19: =IF($A19="",,IFERROR(COUNTIFS('교육운영'!$B$2:$B1000,$A19,'교육운영'!$E$2:$E1000,'고급분석'!$B$4)/COUNTIFS('교육운영'!$B$2:$B1000,$A19),0)) -> 1
A20: =IFERROR(__xludf.DUMMYFUNCTION("""COMPUTED_VALUE"""),"B팀") -> B팀 | B20: =IF($A20="",,IFERROR(COUNTIFS('교육운영'!$B$2:$B1000,$A20,'교육운영'!$E$2:$E1000,'고급분석'!$B$4)/COUNTIFS('교육운영'!$B$2:$B1000,$A20),0)) -> 1
A21: =IFERROR(__xludf.DUMMYFUNCTION("""COMPUTED_VALUE"""),"C팀") -> C팀 | B21: =IF($A21="",,IFERROR(COUNTIFS('교육운영'!$B$2:$B1000,$A21,'교육운영'!$E$2:$E1000,'고급분석'!$B$4)/COUNTIFS('교육운영'!$B$2:$B1000,$A21),0)) -> 0.25
A24: 예정자 명단
A25: {='교육운영'!A1:E1} -> 응답ID | B25: 소속 | C25: 과정코드 | D25: 과정명 | E25: 상태
A26: =IFERROR(__xludf.DUMMYFUNCTION("IFERROR(FILTER('교육운영'!A2:E1000,'교육운영'!E2:E1000='고급분석'!$B$5,($B$4=""전체"")+('교육운영'!B2:B1000=$B$4)),""해당 없음"")"),"R10") -> R10 | B26: =IFERROR(__xludf.DUMMYFUNCTION("""COMPUTED_VALUE"""),"C팀") -> C팀 | C26: =IFERROR(__xludf.DUMMYFUNCTION("""COMPUTED_VALUE"""),"C03") -> C03 | D26: =IFERROR(__xludf.DUMMYFUNCTION("""COMPUTED_VALUE"""),"갈등관리") -> 갈등관리 | E26: =IFERROR(__xludf.DUMMYFUNCTION("""COMPUTED_VALUE"""),"예정") -> 예정
A27: =IFERROR(__xludf.DUMMYFUNCTION("""COMPUTED_VALUE"""),"R11") -> R11 | B27: =IFERROR(__xludf.DUMMYFUNCTION("""COMPUTED_VALUE"""),"C팀") -> C팀 | C27: =IFERROR(__xludf.DUMMYFUNCTION("""COMPUTED_VALUE"""),"C03") -> C03 | D27: =IFERROR(__xludf.DUMMYFUNCTION("""COMPUTED_VALUE"""),"갈등관리") -> 갈등관리 | E27: =IFERROR(__xludf.DUMMYFUNCTION("""COMPUTED_VALUE"""),"예정") -> 예정
A28: =IFERROR(__xludf.DUMMYFUNCTION("""COMPUTED_VALUE"""),"R12") -> R12 | B28: =IFERROR(__xludf.DUMMYFUNCTION("""COMPUTED_VALUE"""),"C팀") -> C팀 | C28: =IFERROR(__xludf.DUMMYFUNCTION("""COMPUTED_VALUE"""),"C03") -> C03 | D28: =IFERROR(__xludf.DUMMYFUNCTION("""COMPUTED_VALUE"""),"갈등관리") -> 갈등관리 | E28: =IFERROR(__xludf.DUMMYFUNCTION("""COMPUTED_VALUE"""),"예정") -> 예정
